BEGIN:VCALENDAR
VERSION:2.0
PRODID:-//wp-events-plugin.com//7.2.3.1//EN
TZID:Europe/Madrid
X-WR-TIMEZONE:Europe/Madrid
BEGIN:VEVENT
UID:3@mueveasociacion.com
DTSTART;TZID=Europe/Madrid:20251105T093000
DTEND;TZID=Europe/Madrid:20251105T113000
DTSTAMP:20251109T160930Z
URL:https://mueveasociacion.com/eventos/networking-5-de-noviembre-2025/
SUMMARY:Networking 5 de noviembre 2025
DESCRIPTION:Te esperamos en el Centro Polivalente de Peñas Albas (Villalbi
 lla) de 9:30 a 11:30 para charlar sobre nosotras y nuestros negocios.\nTe 
 invitamos a desayunar y a continuación aprenderemos de una de nuestras so
 cias en una píldora de valor. Hoy tendremos la suerte de aprender sobre l
 ogos y sus formatos para diferentes usos digitales o impresos\, de la mano
  de Kris Martín.\n\nKris Martín\, krisondesign en RRSS\, es diseñadora 
 gráfica y especialista en comunicación visual. Con más de 20 años de e
 xperiencia\, ha trabajado en imprentas\, agencias de marketing y publicida
 d\, gestionando proyectos para grandes marcas como Telecinco\, Antena3 y J
 CDecaux.\nSu trayectoria la llevó a especializarse en diseño editorial\,
  colaborando como freelance para la Organización Mundial de Sanidad Anima
 l (OIE)\, hasta decidir crear su propio camino con KRISONDESIGN.\nAdemás\
 , es fundadora de la Asociación MUEVE (Mujeres Unidas Emprendedoras de Vi
 llalbilla y Entorno)\, un espacio donde impulsa el crecimiento y la colabo
 ración entre mujeres emprendedoras.\nKris no solo diseña\, sino que ha c
 omplementado su formación en diferentes áreas como marketing digital\, t
 ráfico online\, diseño web\, edición de video e inteligencia artificial
 \, siempre en constante evolución para ofrecer las mejores soluciones a s
 us clientes.\nSu enfoque práctico y su entusiasmo por compartir conocimie
 ntos la han llevado a impartir talleres y asesorías en Canva\, ayudando a
  emprendedores a potenciar su diseño de contenido con creatividad y estra
 tegia.\nAdemás\, su compromiso con el bienestar animal la ha llevado a co
 laborar como diseñadora en la Asociación protectora de animales ACUNR\, 
 apoyando causas solidarias a través del diseño.\n\nQué encontrarás en 
 MUEVE:\n\n\n 	Red de cercanía: conoces a emprendedoras locales de Alcalá
  y alrededores\, lo que facilita colaboraciones rápidas.\n 	Entorno femen
 ino: un espacio seguro y de confianza\, pensado para mujeres que entienden
  tus retos.\n 	Apoyo mutuo: MUEVE no es solo networking\, es comunidad: te
  arropamos y celebramos tus logros.\n 	Visibilidad extra: pertenecer a la 
 asociación te da presencia en redes\, directorios y actividades conjuntas
 .\n 	Ambiente auténtico y cercano: no es un networking frío\, aquí se c
 rean relaciones reales.\n 	Posibilidad de dar a conocer tu negocio de form
 a recurrente\, no solo en un encuentro aislado.\n 	Aprender de otras exper
 iencias: desde cómo captar clientes hasta cómo gestionar redes sociales 
 o mentalidad.\n 	Sello de pertenencia: formar parte de una asociación com
 o MUEVE refuerza tu marca y transmite profesionalidad.\n 	Puerta a colabor
 aciones locales: talleres\, jornadas\, colaboraciones en eventos de la zon
 a.\n 	Crecimiento personal y profesional: porque juntas se llega más lejo
 s\, y la energía del grupo multiplica la tuya.\n
CATEGORIES:Networking
END:VEVENT
BEGIN:VTIMEZONE
TZID:Europe/Madrid
X-LIC-LOCATION:Europe/Madrid
BEGIN:STANDARD
DTSTART:20251026T020000
TZOFFSETFROM:+0200
TZOFFSETTO:+0100
TZNAME:CET
END:STANDARD
END:VTIMEZONE
END:VCALENDAR