BEGIN:VCALENDAR
VERSION:2.0
PRODID:-//wp-events-plugin.com//7.2.3.1//EN
TZID:Europe/Madrid
X-WR-TIMEZONE:Europe/Madrid
BEGIN:VEVENT
UID:2@mueveasociacion.com
DTSTART;TZID=Europe/Madrid:20251203T093000
DTEND;TZID=Europe/Madrid:20251203T113000
DTSTAMP:20251117T065749Z
URL:https://mueveasociacion.com/eventos/networking-3-de-diciembre-2025/
SUMMARY:Networking + desayuno + píldora de valor
DESCRIPTION:Te esperamos en el Centro Polivalente de Peñas Albas (Villalbi
 lla) de 9:30 a 11:30 para charlar sobre nosotras y nuestros negocios.\nTe 
 invitamos a desayunar y a continuación aprenderemos de una de nuestras so
 cias en una píldora de valor.\nQué encontrarás en MUEVE:\n\n\n 	Red de 
 cercanía: conoces a emprendedoras locales de Alcalá y alrededores\, lo q
 ue facilita colaboraciones rápidas.\n 	Entorno femenino: un espacio segur
 o y de confianza\, pensado para mujeres que entienden tus retos.\n 	Apoyo 
 mutuo: MUEVE no es solo networking\, es comunidad: te arropamos y celebram
 os tus logros.\n 	Visibilidad extra: pertenecer a la asociación te da pre
 sencia en redes\, directorios y actividades conjuntas.\n 	Ambiente autént
 ico y cercano: no es un networking frío\, aquí se crean relaciones reale
 s.\n 	Posibilidad de dar a conocer tu negocio de forma recurrente\, no sol
 o en un encuentro aislado.\n 	Aprender de otras experiencias: desde cómo 
 captar clientes hasta cómo gestionar redes sociales o mentalidad.\n 	Sell
 o de pertenencia: formar parte de una asociación como MUEVE refuerza tu m
 arca y transmite profesionalidad.\n 	Puerta a colaboraciones locales: tall
 eres\, jornadas\, colaboraciones en eventos de la zona.\n 	Crecimiento per
 sonal y profesional: porque juntas se llega más lejos\, y la energía del
  grupo multiplica la tuya.\n
ATTACH;FMTTYPE=image/jpeg:https://mueveasociacion.com/wp-content/uploads/c
 entro-polivalente-de-penas-albas-villalbilla.jpg
CATEGORIES:Networking
END:VEVENT
BEGIN:VTIMEZONE
TZID:Europe/Madrid
X-LIC-LOCATION:Europe/Madrid
BEGIN:STANDARD
DTSTART:20251026T020000
TZOFFSETFROM:+0200
TZOFFSETTO:+0100
TZNAME:CET
END:STANDARD
END:VTIMEZONE
END:VCALENDAR