BEGIN:VCALENDAR
VERSION:2.0
PRODID:-//wp-events-plugin.com//7.2.3.1//EN
TZID:Europe/Madrid
X-WR-TIMEZONE:Europe/Madrid
BEGIN:VEVENT
UID:4@mueveasociacion.com
DTSTART;TZID=Europe/Madrid:20251214T100000
DTEND;TZID=Europe/Madrid:20251214T140000
DTSTAMP:20251212T164252Z
URL:https://mueveasociacion.com/eventos/mercadillo-navideno-penas-albas-20
 25/
SUMMARY:Mercadillo navideño Peñas Albas
DESCRIPTION:📅 Fecha: 14 de diciembre 2025📍 Lugar: Centro Comercial de
  Peñas Albas\, Villalbilla\n🎄 Mercadillo Navideño MUEVE – Villalbil
 la\nSi te apetece un plan bonito en familia y apoyar a las emprendedoras d
 e la zona\, te esperamos este domingo 14 de diciembre 2025\, de 10:00 a 14
 :00 h\, en el Centro Comercial Peñas Albas.\n✨ Regalos hechos por mujer
 es de Villalbilla y su entorno:\nFotografía infantil • Juguetes de made
 ra • Calzado infantil • Dermocosmética • Joyería • Jabones natur
 ales • Papelería creativa • Adornos y complementos • Resina y macra
 mé • Nutrición familiar • Bienestar • Velas veganas\n✨ Talleres 
 en familia (por solo 3€):\n• Mosaico Romano\n• Casitas Scrap\n• Ad
 orno de Navidad\n• Nutrición Proyecto Pandi\n⁠\nUn mercado para compr
 ar\, crear y disfrutar de la Navidad en comunidad.\nVen a conocernos\, a c
 ompartir y a contagiarte de la ilusión emprendedora que mueve MUEVE 💜\
 n\n
ATTACH;FMTTYPE=image/jpeg:https://mueveasociacion.com/wp-content/uploads/c
 entro-comercial-de-penas-albas-villalbilla.png
CATEGORIES:Ferias o mercadillos
END:VEVENT
BEGIN:VTIMEZONE
TZID:Europe/Madrid
X-LIC-LOCATION:Europe/Madrid
BEGIN:STANDARD
DTSTART:20251026T020000
TZOFFSETFROM:+0200
TZOFFSETTO:+0100
TZNAME:CET
END:STANDARD
END:VTIMEZONE
END:VCALENDAR