BEGIN:VCALENDAR
VERSION:2.0
PRODID:-//wp-events-plugin.com//7.2.3.1//EN
TZID:Europe/Madrid
X-WR-TIMEZONE:Europe/Madrid
BEGIN:VEVENT
UID:1@mueveasociacion.com
DTSTART;TZID=Europe/Madrid:20251119T180000
DTEND;TZID=Europe/Madrid:20251119T193000
DTSTAMP:20251117T122313Z
URL:https://mueveasociacion.com/eventos/jornada-emprendedoras-experiencias
 -de-mujeres/
SUMMARY:JORNADA “Emprendedoras: experiencias de mujeres”
DESCRIPTION:18:00h. Mesa de bienvenida "El impulso al emprendimiento de muj
 eres”:\n\n\n 	Representante de AEDHE.\n 	Isabel Mesas\, Concejala de Igu
 aldad – Ayuntamiento de Villalbilla.\n 	Rebeca Canalda\, Presidenta de M
 UEVE.\n\n18:30h. Presentación de la WEB de la Asociación de Mujeres Empr
 endedoras de Villalbilla y su Entorno (MUEVE):  Emprendedoras de MUEVE. 
  Negocios de sus socias.\n19:00h. a 19:30h. Ágape\nLugar: Salón de Pleno
 s del Ayuntamiento de Villalbilla (Pz. Mayor\, 2)\nOrganizan: Concejalía 
 de Igualdad del Ayuntamiento de Villalbilla y Asociación MUEVE\n&nbsp\;
ATTACH;FMTTYPE=image/jpeg:https://mueveasociacion.com/wp-content/uploads/a
 yuntamiento-de-villalbilla-plaza-de-mayor.jpg
CATEGORIES:Jornada de Emprendimiento
END:VEVENT
BEGIN:VTIMEZONE
TZID:Europe/Madrid
X-LIC-LOCATION:Europe/Madrid
BEGIN:STANDARD
DTSTART:20251026T020000
TZOFFSETFROM:+0200
TZOFFSETTO:+0100
TZNAME:CET
END:STANDARD
END:VTIMEZONE
END:VCALENDAR