BEGIN:VCALENDAR
VERSION:2.0
PRODID:-//wp-events-plugin.com//7.2.3.1//EN
TZID:Europe/Madrid
X-WR-TIMEZONE:Europe/Madrid
BEGIN:VEVENT
UID:6@mueveasociacion.com
DTSTART;TZID=Europe/Madrid:20260304T093000
DTEND;TZID=Europe/Madrid:20260304T113000
DTSTAMP:20260206T083451Z
URL:https://mueveasociacion.com/eventos/4-marzo-2026-930-a-1130-networking
 -desayuno-pildora-de-valor/
SUMMARY:4 marzo 2026 -  9:30 a 11:30: Networking + desayuno + píldora de v
 alor
DESCRIPTION:El próximo 4 de marzo celebramos un nuevo encuentro de network
 ing de la asociación MUEVE en Villalbilla\, un espacio pensado para mujer
 es emprendedoras que desean conectar\, compartir y hacer crecer sus proyec
 tos en compañía.\nDurante la jornada disfrutaremos de un desayuno disten
 dido\, ideal para romper el hielo\, generar conversaciones auténticas y f
 ortalecer relaciones profesionales\, y de una píldora de valor impartida 
 por una de nuestras socias\, que compartirá conocimiento práctico y apli
 cable a tu negocio desde su experiencia.\n\n¿Qué encontrarás en este ne
 tworking?\n\n 	Un ambiente cercano y seguro\, donde sentirte escuchada y c
 omprendida como emprendedora\n 	Conexiones reales con mujeres de distintos
  sectores\n 	Inspiración\, aprendizaje y nuevas perspectivas para tu proy
 ecto\n 	Oportunidades de colaboración y sinergias\n 	Un espacio para sali
 r de la soledad del emprendimiento y volver con energía renovada\n\nBenef
 icios de asistir\n\n 	Amplías tu red de contactos de forma natural\n 	Das
  visibilidad a tu negocio sin vender de forma agresiva\n 	Aprendes de otra
 s emprendedoras que ya han pasado por lo mismo que tú\n 	Te llevas ideas\
 , claridad y motivación para tu siguiente paso\n 	Formas parte activa de 
 una comunidad que impulsa el crecimiento colectivo\n 	Si buscas un network
 ing diferente\, humano y con propósito\, MUEVE es tu lugar.\n\nPíldora d
 e valor\nA continuación\, tendremos la suerte de conocer un poco más a u
 na de nuestras socias\, su historia\, su profesión y nos dará consejitos
  que a todas nos benefician.\nVente!!! Contamos contigo!! \n\n\n\n\nNo te
  lo pierdas\, es GRATUITO!\n\n\n
ATTACH;FMTTYPE=image/jpeg:https://mueveasociacion.com/wp-content/uploads/c
 entro-polivalente-de-penas-albas-villalbilla.jpg
CATEGORIES:Networking
END:VEVENT
BEGIN:VTIMEZONE
TZID:Europe/Madrid
X-LIC-LOCATION:Europe/Madrid
BEGIN:STANDARD
DTSTART:20251026T020000
TZOFFSETFROM:+0200
TZOFFSETTO:+0100
TZNAME:CET
END:STANDARD
END:VTIMEZONE
END:VCALENDAR