BEGIN:VCALENDAR
VERSION:2.0
PRODID:-//wp-events-plugin.com//7.2.3.1//EN
TZID:Europe/Madrid
X-WR-TIMEZONE:Europe/Madrid
BEGIN:VEVENT
UID:5@mueveasociacion.com
DTSTART;TZID=Europe/Madrid:20260204T093000
DTEND;TZID=Europe/Madrid:20260204T113000
DTSTAMP:20251227T084545Z
URL:https://mueveasociacion.com/eventos/4-febrero-2026-networking-emprende
 doras-en-villalbilla/
SUMMARY:4 febrero 2026 - Networking emprendedoras + desayuno + píldora de 
 valor
DESCRIPTION:Networking MUEVE · Villalbilla\n&nbsp\;\nSi buscas un networki
 ng diferente\, humano y con propósito\, MUEVE es tu lugar.\n📅 4 de feb
 rero - 9:30 a 11:30📍 Villalbilla - Centro Polivalente de Peñas Albas
 ☕ Desayuno + píldora de valor\nEl próximo 4 de febrero celebramos un n
 uevo encuentro de networking de la asociación MUEVE en Villalbilla\, un e
 spacio pensado para mujeres emprendedoras que desean conectar\, compartir 
 y hacer crecer sus proyectos en compañía.\nDurante la jornada disfrutare
 mos de un desayuno distendido\, ideal para romper el hielo\, generar conve
 rsaciones auténticas y fortalecer relaciones profesionales\, y de una pí
 ldora de valor impartida por una de nuestras socias\, que compartirá cono
 cimiento práctico y aplicable a tu negocio desde su experiencia.\n\nQué 
 encontrarás en MUEVE:\n\n 	Red de cercanía: conoces a emprendedoras loca
 les de Alcalá y alrededores\, lo que facilita colaboraciones rápidas.\n 
 	Entorno femenino: un espacio seguro y de confianza\, pensado para mujeres
  que entienden tus retos.\n 	Apoyo mutuo: MUEVE no es solo networking\, es
  comunidad: te arropamos y celebramos tus logros.\n 	Visibilidad extra: pe
 rtenecer a la asociación te da presencia en redes\, directorios y activid
 ades conjuntas.\n 	Ambiente auténtico y cercano: no es un networking frí
 o\, aquí se crean relaciones reales.\n 	Posibilidad de dar a conocer tu n
 egocio de forma recurrente\, no solo en un encuentro aislado.\n 	Aprender 
 de otras experiencias: desde cómo captar clientes hasta cómo gestionar r
 edes sociales o mentalidad.\n 	Sello de pertenencia: formar parte de una a
 sociación como MUEVE refuerza tu marca y transmite profesionalidad.\n 	Pu
 erta a colaboraciones locales: talleres\, jornadas\, colaboraciones en eve
 ntos de la zona.\n 	Crecimiento personal y profesional: porque juntas se l
 lega más lejos\, y la energía del grupo multiplica la tuya.\n\nNo te lo 
 pierdas\, es GRATUITO!
ATTACH;FMTTYPE=image/jpeg:https://mueveasociacion.com/wp-content/uploads/c
 entro-polivalente-de-penas-albas-villalbilla.jpg
CATEGORIES:Networking
END:VEVENT
BEGIN:VTIMEZONE
TZID:Europe/Madrid
X-LIC-LOCATION:Europe/Madrid
BEGIN:STANDARD
DTSTART:20251026T020000
TZOFFSETFROM:+0200
TZOFFSETTO:+0100
TZNAME:CET
END:STANDARD
END:VTIMEZONE
END:VCALENDAR